BEGIN:VCALENDAR
VERSION:2.0
PRODID:-//Autism Spectrum News - ECPv6.15.20//NONSGML v1.0//EN
CALSCALE:GREGORIAN
METHOD:PUBLISH
X-WR-CALNAME:Autism Spectrum News
X-ORIGINAL-URL:https://autismspectrumnews.org
X-WR-CALDESC:Events for Autism Spectrum News
REFRESH-INTERVAL;VALUE=DURATION:PT1H
X-Robots-Tag:noindex
X-PUBLISHED-TTL:PT1H
BEGIN:VTIMEZONE
TZID:America/New_York
BEGIN:DAYLIGHT
TZOFFSETFROM:-0500
TZOFFSETTO:-0400
TZNAME:EDT
DTSTART:20170312T070000
END:DAYLIGHT
BEGIN:STANDARD
TZOFFSETFROM:-0400
TZOFFSETTO:-0500
TZNAME:EST
DTSTART:20171105T060000
END:STANDARD
BEGIN:DAYLIGHT
TZOFFSETFROM:-0500
TZOFFSETTO:-0400
TZNAME:EDT
DTSTART:20180311T070000
END:DAYLIGHT
BEGIN:STANDARD
TZOFFSETFROM:-0400
TZOFFSETTO:-0500
TZNAME:EST
DTSTART:20181104T060000
END:STANDARD
BEGIN:DAYLIGHT
TZOFFSETFROM:-0500
TZOFFSETTO:-0400
TZNAME:EDT
DTSTART:20190310T070000
END:DAYLIGHT
BEGIN:STANDARD
TZOFFSETFROM:-0400
TZOFFSETTO:-0500
TZNAME:EST
DTSTART:20191103T060000
END:STANDARD
BEGIN:DAYLIGHT
TZOFFSETFROM:-0500
TZOFFSETTO:-0400
TZNAME:EDT
DTSTART:20200308T070000
END:DAYLIGHT
BEGIN:STANDARD
TZOFFSETFROM:-0400
TZOFFSETTO:-0500
TZNAME:EST
DTSTART:20201101T060000
END:STANDARD
BEGIN:DAYLIGHT
TZOFFSETFROM:-0500
TZOFFSETTO:-0400
TZNAME:EDT
DTSTART:20210314T070000
END:DAYLIGHT
BEGIN:STANDARD
TZOFFSETFROM:-0400
TZOFFSETTO:-0500
TZNAME:EST
DTSTART:20211107T060000
END:STANDARD
BEGIN:DAYLIGHT
TZOFFSETFROM:-0500
TZOFFSETTO:-0400
TZNAME:EDT
DTSTART:20220313T070000
END:DAYLIGHT
BEGIN:STANDARD
TZOFFSETFROM:-0400
TZOFFSETTO:-0500
TZNAME:EST
DTSTART:20221106T060000
END:STANDARD
END:VTIMEZONE
BEGIN:VEVENT
DTSTART;TZID=America/New_York:20210201T160000
DTEND;TZID=America/New_York:20210201T180000
DTSTAMP:20260425T191754
CREATED:20201231T143900Z
LAST-MODIFIED:20201231T143900Z
UID:5715-1612195200-1612202400@autismspectrumnews.org
SUMMARY:Threshold Program Virtual Information Session
DESCRIPTION:This is a live\, interactive Information Session! \nEven if you have viewed our Virtual Open House on the Threshold Program Website\, this is a great opportunity to ask questions to the Threshold staff. \nLearn about: \n\nConcentrations and Curriculum\nIndependent Living Skills Training\nSocial and Psychological Development\n\nPlus: \n\nMeet a Panel of Current Students\n\nREGISTER HERE\n(You will also find links to register for our other upcoming information sessions at this link.) \nPlease email threshold@lesley.edu with any questions \n  \nCLICK HERE FOR INFORMATION ON THRESHOLD
URL:https://autismspectrumnews.org/event/threshold-program-virtual-information-session-2/
END:VEVENT
BEGIN:VEVENT
DTSTART;TZID=America/New_York:20210111T160000
DTEND;TZID=America/New_York:20210111T180000
DTSTAMP:20260425T191754
CREATED:20201231T143633Z
LAST-MODIFIED:20201231T143633Z
UID:5710-1610380800-1610388000@autismspectrumnews.org
SUMMARY:Threshold Program Virtual Information Session
DESCRIPTION:This is a live\, interactive Information Session! \nEven if you have viewed our Virtual Open House on the Threshold Program Website\, this is a great opportunity to ask questions to the Threshold staff. \nLearn about: \n\nConcentrations and Curriculum\nIndependent Living Skills Training\nSocial and Psychological Development\n\nPlus: \n\nMeet a Panel of Current Students\n\nREGISTER HERE\n(You will also find links to register for our other upcoming information sessions at this link.) \nPlease email threshold@lesley.edu with any questions \n  \nCLICK HERE FOR INFORMATION ON THRESHOLD
URL:https://autismspectrumnews.org/event/threshold-program-virtual-information-session/
END:VEVENT
BEGIN:VEVENT
DTSTART;TZID=America/New_York:20201120T090000
DTEND;TZID=America/New_York:20201120T133000
DTSTAMP:20260425T191754
CREATED:20201113T161812Z
LAST-MODIFIED:20201113T161812Z
UID:5286-1605862800-1605879000@autismspectrumnews.org
SUMMARY:YAI 2020 Virtual Hudson Valley Autism Conference
DESCRIPTION:Join us for the YAI Hudson Valley Autism Conference being held virtually this year on Friday\, November 20\, at 9 a.m. Attendees will be joined by leading autism experts\, including longtime YAI partner and a top-10 influencer in the autism and depression fields Dan Tomasulo\, author of American Snake Pit\, as he discusses Raising Psychological Capital: A Strength-based approach to emotional self-regulation. \nFor more information\, please visit  yai.org/HVAC2020. We look forward to seeing you on November 20!
URL:https://autismspectrumnews.org/event/yai-2020-virtual-hudson-valley-autism-conference/
LOCATION:Virtual Event
ORGANIZER;CN="Judith Bailey-Hung":MAILTO:judith.bailey@yai.org
END:VEVENT
BEGIN:VEVENT
DTSTART;TZID=America/New_York:20201102T160000
DTEND;TZID=America/New_York:20201102T180000
DTSTAMP:20260425T191754
CREATED:20201015T184429Z
LAST-MODIFIED:20201016T140214Z
UID:5204-1604332800-1604340000@autismspectrumnews.org
SUMMARY:Lesley University Threshold Program Virtual Information Session
DESCRIPTION:  \nEvent Details: www.lesley.edu/events/threshold-program-virtual-information-session\n  \nThis is our first interactive Information Session of the year! \nEven if you have viewed our Virtual Open House on the Threshold Program website\, this is a great opportunity to ask questions to the Threshold staff. \nLearn About:\n\nConcentrations and Curriculum\nIndependent Living Skills Training\nSocial and Psychological Development\n\nPlus:\n\nMeet a Panel of Current Students\n\nPlease email threshold@lesley.edu with any questions \nCLICK HERE FOR INFORMATION ON THRESHOLD
URL:https://autismspectrumnews.org/event/lesley-university-threshold-program-virtual-information-session/
LOCATION:Zoom
END:VEVENT
BEGIN:VEVENT
DTSTART;TZID=America/New_York:20200930T090000
DTEND;TZID=America/New_York:20200930T100000
DTSTAMP:20260425T191754
CREATED:20191226T154449Z
LAST-MODIFIED:20200902T193027Z
UID:3982-1601456400-1601460000@autismspectrumnews.org
SUMMARY:Virtual Event - Yes She Can\, Inc. 2020 Advocates for Adults with Autism Awards
DESCRIPTION:Thanks to our generous sponsors\, this event is FREE.   Please consider ordering our breakfast package for only $20. \nRSVP Here: https://yesshecaninc.org/aaaa20/  \n  \nHonorees \nJODI: a gifted musician\, composer\, vocalist and performer. Diagnosed with autism at age 2\, at 18 she is a self-advocate . \nPETER: Executive Director of the EPIC school in New Jersey.  He is a pioneer in identifying and focusing on the needs of teens and adults with ASD. \nLIANE: parent of a son with ASD\, essayist and award-winning author of her memoir\, Ketchup is My Favorite Vegetable \nMARC: parent with Liane\, community leader of programs promoting equity for people with ASD. \n  \nYes She Can Inc.\, a non-profit founded in 2013\, is dedicated to helping young women with autism and related disabilities develop transferable job skills and workplace social skills – through authentic work experience.  We serve teen girls in transition from high school to adulthood and young women with autism spectrum disorders in an inclusion setting at Girl AGain boutique.
URL:https://autismspectrumnews.org/event/yes-she-can-inc-2020-advocates-for-adults-with-autism-awards/
LOCATION:Virtual Event
ORGANIZER;CN="Marjorie Madfis":MAILTO:marjorie@yesshecaninc.org
END:VEVENT
BEGIN:VEVENT
DTSTART;VALUE=DATE:20200501
DTEND;VALUE=DATE:20201001
DTSTAMP:20260425T191754
CREATED:20200513T135414Z
LAST-MODIFIED:20200513T135414Z
UID:4611-1588291200-1601510399@autismspectrumnews.org
SUMMARY:Virtual Open House: Threshold Program at Lesley University
DESCRIPTION:This is your chance to get firsthand information about the Threshold Program from expert faculty\, our admissions team\, and directly from alumni. \nCLICK HERE FOR THE THRESHOLD VIRTUAL OPEN HOUSE
URL:https://autismspectrumnews.org/event/virtual-open-house-threshold-program-at-lesley-university/
END:VEVENT
BEGIN:VEVENT
DTSTART;VALUE=DATE:20200306
DTEND;VALUE=DATE:20200307
DTSTAMP:20260425T191754
CREATED:20200226T160627Z
LAST-MODIFIED:20200226T170650Z
UID:4147-1583452800-1583539199@autismspectrumnews.org
SUMMARY:Supervising Employees with ADHD and Autism
DESCRIPTION:Practical strategies to reduce turnover\, strengthen teamwork\, and increase productivity\nFor managers\, HR professionals\, supervisors\, senior executives\, and more\nexpectations  ●  social and communication skills  ●  common challenges  ●  biases  ●  inclusion \nGain insight into employees with ADHD and autism \nExplore practical strategies to: \n\nEnhance mutual respect\nImprove communication\nLeverage unique skills\n\nLearn from neurodiversity experts! \nRegister Now: landmark.edu/workplace
URL:https://autismspectrumnews.org/event/supervising-employees-with-adhd-and-autism/
END:VEVENT
BEGIN:VEVENT
DTSTART;TZID=America/New_York:20200120T090000
DTEND;TZID=America/New_York:20200120T173000
DTSTAMP:20260425T191754
CREATED:20191226T153438Z
LAST-MODIFIED:20200106T154046Z
UID:3971-1579510800-1579541400@autismspectrumnews.org
SUMMARY:NYTPS Education Conference on Creative Therapies - "Thinking Outside the Box"
DESCRIPTION:  \nNew York Therapy Placement Services\, Inc is holding an Education Conference! This year’s focus is the utilization of music\, play and art therapies in the treatment and education of those with developmental disabilities and on the autism spectrum. Through a series of interactive and informative presentations\, given by leaders in the realm of creative therapies\, participants will learn through experiential processes the potential advantages of incorporating these modalities into their sessions and daily practices; including\, but not limited to\, how these techniques can increase motivation\, communication\, social interaction and retention\, as well as the importance of rapport-building. Special education providers\, family members and the public alike can benefit from learning about these increasingly important and evidence-based artistic approaches. Register now and join us for a day of knowledge and engagement as we learn how to think outside the box with creative therapies!
URL:https://autismspectrumnews.org/event/nytps-education-conference-on-creative-therapies-thinking-outside-the-box/
LOCATION:HIlton Long Island\, 598 Broadhollow Road\, Melville\, NY\, 11747\, United States
ORGANIZER;CN="Danielle Silverstein":MAILTO:Danielle.Silverstein@nytps.org
END:VEVENT
BEGIN:VEVENT
DTSTART;VALUE=DATE:20191206
DTEND;VALUE=DATE:20191216
DTSTAMP:20260425T191754
CREATED:20191209T190430Z
LAST-MODIFIED:20191209T190641Z
UID:3960-1575590400-1576454399@autismspectrumnews.org
SUMMARY:Peter and the Starcatcher
DESCRIPTION:Tony-winning Peter and the Starcatcher upends the century-old story of how a young orphan comes to be The Boy Who Would Not Grow Up (a.k.a. Peter Pan). From marauding pirates and jungle tyrants to unwilling comrades and unlikely heroes\, Peter and the Starcatcher playfully explores the depths of greed and despair; along with discovering who you are and the bonds of friendship and love. \nThe creative team at EPIC Players\, a neuro-inclusive theater company\, helms the this production and uses the stage to elevate the talented voices of artists living with neuro-diversities. Featuring over a dozen actors with autism\, portraying more than 100 unforgettable characters\, this Peter and the Starcatcher shows the limitless possibilities of imagination and the power of inclusion that can bring a story to life. \nRun time: 90 minutes\, with intermission
URL:https://autismspectrumnews.org/event/peter-and-the-starcatcher/
LOCATION:HERE Arts Center\, 145 6th Avenue\, New York\, NY\, 10013\, United States
END:VEVENT
BEGIN:VEVENT
DTSTART;TZID=America/New_York:20191124T140000
DTEND;TZID=America/New_York:20191124T170000
DTSTAMP:20260425T191754
CREATED:20190926T200643Z
LAST-MODIFIED:20190927T185846Z
UID:3781-1574604000-1574614800@autismspectrumnews.org
SUMMARY:AANE 2019 Rock 'N' Bowl for Autism
DESCRIPTION:ROCK ‘N’ BOWL for Autism is an annual\, family-friendly\, fun-filled fundraising event. Now in its 11th year\, the event draws more than 300 participants annually. Through sponsorship\, ticket sales\, raffles\, and peer-to-peer fundraising\, event participants have raised funds to help AHA provide services for individuals on the autism spectrum\, their families\, and the professionals who serve them. Now that AANE & AHA have joined forces\, we are delighted this tradition continues.
URL:https://autismspectrumnews.org/event/aane-2019-rock-n-bowl-for-autism/
ORGANIZER;CN="Samantha Halliday Diez":MAILTO:samantha.hallidaydiez@aane.org
END:VEVENT
BEGIN:VEVENT
DTSTART;TZID=America/New_York:20191115T080000
DTEND;TZID=America/New_York:20191115T080000
DTSTAMP:20260425T191754
CREATED:20190927T185557Z
LAST-MODIFIED:20190927T185651Z
UID:3790-1573804800-1573804800@autismspectrumnews.org
SUMMARY:YAI 2019 Hudson Valley Autism Conference
DESCRIPTION:Join YAI for the 2019 Hudson Valley Autism Conference \n\n\nHundreds of professionals in the field of intellectual and developmental disabilities (I/DD)\, businesses that employ people on the spectrum\, as well as people we support and their families\, will be in attendance for an inspiring day of learning. Following this years conference please join us for a networking happy hour to connect with industry leaders who support employment for people with autism. \nThis year’s topic is Employment Success for People on the Spectrum \nFor more than sixty years\, YAI has been a leader in the I/DD field through our innovative services\, industry trainings\, and tireless advocacy. Currently\, we support more than 20\,000 people each year — the largest organization of our kind in New York State.
URL:https://autismspectrumnews.org/event/yai-2019-hudson-valley-autism-conference/
LOCATION:Manhattanville College\, Reid Castle\, 2900 Purchase Street\, Harrison\, NY\, 10577\, United States
ORGANIZER;CN="Jessica Stinchcomb":MAILTO:jessica.stinchcomb@yai.org
END:VEVENT
BEGIN:VEVENT
DTSTART;TZID=America/New_York:20191027T093000
DTEND;TZID=America/New_York:20191027T160000
DTSTAMP:20260425T191754
CREATED:20190715T185322Z
LAST-MODIFIED:20190715T185322Z
UID:3349-1572168600-1572192000@autismspectrumnews.org
SUMMARY:Youth on the Autism Spectrum: Jobs\, College and BEYOND
DESCRIPTION:The morning will include a series of presentations on vocational options and college programs. After lunch a series of workshops will focus on transition to jobs/ vocational schools for students and supporters\, one for students interested in college programs\, another for parents interested in college.  Information on transition planning and programs as well as a final session on transition issues for the entire group.  The focus will be on practical  and helpful information and ways to access resources and supports and strategies for success. \nSpeakers include: Jane Brown\, Peter Gerhardt\, Gary Mayerson\, John Miller\, Fred Volkmar\, Ernst Vanbergeijk\, Michael Storz\, Barbara Cook\, Kimberly Bean\, and others \nAs part of ReelAbilities Film Festival\, Two Film Shorts  on ASD (Bumblees & Autism in Love) will also be played during lunch \nSPONSORED BY THE CENTERS OF EXCELLENCE ON AUTISM SPECTRUM DISORDERS AT SOUTHERN CONNECTICUT STATE UNIVERSITY & YALE UNIVERSITY \nCost: $25 per person
URL:https://autismspectrumnews.org/event/youth-on-the-autism-spectrum-jobs-college-and-beyond/
LOCATION:Southern CT State University Adanti Center Ballroom\, 345 Fitch St\, New Haven\, CT\, 06515\, United States
END:VEVENT
BEGIN:VEVENT
DTSTART;TZID=America/New_York:20191017T183000
DTEND;TZID=America/New_York:20191017T223000
DTSTAMP:20260425T191754
CREATED:20190823T160113Z
LAST-MODIFIED:20190823T160113Z
UID:3553-1571337000-1571351400@autismspectrumnews.org
SUMMARY:Unique People Services 28th Annual Gala
DESCRIPTION:  \n \n“A Celebration of Unique People”\nRegistration and Details: upsgala2019.uniquepeopleservices.org \nThursday\, October 17\, 2019\nMarina del Rey Caterers\n1 Marina Drive\, Bronx\, NY 10465 \nCocktail Hour | 6:30PM-7:30PM     Dinner and Program | 7:30PM – 10:30PM \nPlease RSVP by Friday\, October 4\, 2019
URL:https://autismspectrumnews.org/event/unique-people-services-28th-annual-gala/
LOCATION:Marina del Rey Caterers\, 1 Marina Drive\, Bronx\, 10465\, United States
END:VEVENT
BEGIN:VEVENT
DTSTART;VALUE=DATE:20191017
DTEND;VALUE=DATE:20191019
DTSTAMP:20260425T191754
CREATED:20190718T144846Z
LAST-MODIFIED:20190718T145434Z
UID:3381-1571270400-1571443199@autismspectrumnews.org
SUMMARY:Autism New Jersey 37th Annual Conference
DESCRIPTION:With 81 workshop options\, 100+ exhibitors\, and opportunities for networking and support\, you can truly create the\nconference experience that YOU need. With all content reviewed to be evidence-based and presented by leaders in\nthe autism community\, you can be confident that it will be a good use of your valuable time and resources. Here are\nsome of the very different ways our 1\,300+ participants craft their schedules: \n• Those who value our Transition Conference will find 4 times as many sessions here that apply to\nteens\, adults\, and their families.\n• New to autism? Learn the basics of understanding behavior\, building social/communication skills\, and\ncreating meaningful IEPs.\n• Teachers: access autism-specific best practice for instruction and classroom management.\n• Focus exclusively on financial planning\, legal issues and advocacy\, and state/federal supports.\n• Experienced clinicians: find support for ethical and instructional challenges from renowned experts.\n• Encouraged by personal perspectives? We appreciate the self-advocates and parents who share their\nexperiences to help us all.
URL:https://autismspectrumnews.org/event/autism-new-jersey-37th-annual-conference/
LOCATION:Harrah’s Waterfront Conference Center\, 777 Harrah's Blvd\, Atlantic City\, NJ\, 08401\, United States
END:VEVENT
BEGIN:VEVENT
DTSTART;TZID=America/New_York:20190504T081500
DTEND;TZID=America/New_York:20190504T161500
DTSTAMP:20260425T191754
CREATED:20190331T204756Z
LAST-MODIFIED:20190331T204756Z
UID:1317-1556957700-1556986500@autismspectrumnews.org
SUMMARY:AHA’s 2019 Spring Conference - Improving Communication Strategies for Individuals with Autism
DESCRIPTION:This year at our annual Spring Conference AHA is proud to present: Improving Communication Strategies for Individuals with Autism\, featuring keynote speaker Alexander “Alex” Plank. Alex is the creator of the website Wrong Planet and consultant to the television show The Bridge. Alex will present on Autism in the Media. Our other speakers include Jackie Bowen\, Kate Cody\, Dena Gassner\, Gina Moravcik\, Stephen Shore\, Kate Trammell and Zosia Zaks presenting effective communication strategies for individuals\, families and professionals in employment\, healthcare and in the community. The Voices from the Spectrum Panel offer\ninsights from personal experiences. This conference will be live streamed for those who are unable to attend in person.
URL:https://autismspectrumnews.org/event/ahas-2019-spring-conference-improving-communication-strategies-for-individuals-with-autism/
LOCATION:The Viscardi Center\, 201 I.U Willets Road\, Albertson\, NY\, 11507\, United States
ORGANIZER;CN="Pat Schissel":MAILTO:conference@ahany.org
END:VEVENT
BEGIN:VEVENT
DTSTART;TZID=America/New_York:20190412T180000
DTEND;TZID=America/New_York:20190414T163000
DTSTAMP:20260425T191754
CREATED:20190331T205536Z
LAST-MODIFIED:20190331T205952Z
UID:1327-1555092000-1555259400@autismspectrumnews.org
SUMMARY:Berklee Institute for Arts Education and Special Needs - ABLE Assembly: Arts Better the Lives of Everyone
DESCRIPTION:The Berklee Institute for Arts Education and Special Needs (BIAESN) is delighted to announce the 2019 dates for its annual conference\, ABLE Assembly: Arts Better the Lives of Everyone. \nThe ABLE Assembly 2019 will be held April 12–14 at Berklee College of Music in Boston. \nThe ABLE Assembly is an exceptional professional development opportunity in the field of arts education and special needs\, bringing together educators\, artists\, researchers\, policymakers\, school administrators\, program administrators\, and students to share best practices\, engage in hands-on experiences\, explore new research\, and learn from each other. \nThe event features presentations and workshops on teaching the arts to students with special needs. Keynote presenters will be announced this fall. Workshops will include opportunities to experience teaching strategies and approaches in music\, dance\, and theater. \nThe conference is open to the public. \nRegister\nThe registration fee is $100 and includes admission to all conference sessions and events\, plus lunch on Saturday and Sunday.\nSchedule\nFriday\, April 12\, 6:00 p.m.–9:00 p.m.\nSaturday\, April 13\, 9:00 a.m.–4:30 p.m.\nSunday\, April 14\, 9:00 a.m.–4:30 p.m.
URL:https://autismspectrumnews.org/event/berklee-institute-for-arts-education-and-special-needs-able-assembly-arts-better-the-lives-of-everyone/
LOCATION:Berklee College of Music\, 921 Boylston Street\, Boston\, MA\, 02215\, United States
ORGANIZER;CN="Rhoda Bernard":MAILTO:rbernard@berklee.edu
END:VEVENT
BEGIN:VEVENT
DTSTART;TZID=America/New_York:20190404T180000
DTEND;TZID=America/New_York:20190404T180000
DTSTAMP:20260425T191754
CREATED:20190126T190727Z
LAST-MODIFIED:20190126T191214Z
UID:923-1554400800-1554400800@autismspectrumnews.org
SUMMARY:7th Annual Film and Music Spectacular
DESCRIPTION:Join Pace University and the Seidenberg School of Computer Science and Information Systems for a film festival marathon featuring short films respecting autonomy and empowerment of people with disabilities.
URL:https://autismspectrumnews.org/event/7th-annual-film-and-music-spectacular/
LOCATION:Pace University Seidenberg School\, 3 Spruce Street\, Bianco Room\, B-Level\, New York\, NY\, 10038\, United States
ORGANIZER;CN="James P. Lawler%2C DPS":MAILTO:lawlerj@aol.com
END:VEVENT
BEGIN:VEVENT
DTSTART;TZID=America/New_York:20181116T080000
DTEND;TZID=America/New_York:20181116T170000
DTSTAMP:20260425T191754
CREATED:20181010T120232Z
LAST-MODIFIED:20181010T120232Z
UID:618-1542355200-1542387600@autismspectrumnews.org
SUMMARY:YAI Westchester Autism Conference
DESCRIPTION:Building Success: Understanding the Complex Nature of Autism
URL:https://autismspectrumnews.org/event/yai-westchester-autism-conference/
LOCATION:DoubleTree by Hilton Tarrytown\, 455 South Broadway\, Tarrytown\, 10591\, United States
END:VEVENT
BEGIN:VEVENT
DTSTART;TZID=America/New_York:20181018T090000
DTEND;TZID=America/New_York:20181019T160000
DTSTAMP:20260425T191754
CREATED:20180823T201540Z
LAST-MODIFIED:20180823T203852Z
UID:452-1539853200-1539964800@autismspectrumnews.org
SUMMARY:Autism NJ 36th Annual Autism Conference
DESCRIPTION:
URL:https://autismspectrumnews.org/event/autism-nj-36th-annual-autism-conference/
ORGANIZER;CN="Elissa Kapp":MAILTO:ekapp@autismnj.org
END:VEVENT
END:VCALENDAR