BEGIN:VCALENDAR
VERSION:2.0
PRODID:-//Autism Spectrum News - ECPv6.15.20//NONSGML v1.0//EN
CALSCALE:GREGORIAN
METHOD:PUBLISH
X-WR-CALNAME:Autism Spectrum News
X-ORIGINAL-URL:https://autismspectrumnews.org
X-WR-CALDESC:Events for Autism Spectrum News
REFRESH-INTERVAL;VALUE=DURATION:PT1H
X-Robots-Tag:noindex
X-PUBLISHED-TTL:PT1H
BEGIN:VTIMEZONE
TZID:America/New_York
BEGIN:DAYLIGHT
TZOFFSETFROM:-0500
TZOFFSETTO:-0400
TZNAME:EDT
DTSTART:20170312T070000
END:DAYLIGHT
BEGIN:STANDARD
TZOFFSETFROM:-0400
TZOFFSETTO:-0500
TZNAME:EST
DTSTART:20171105T060000
END:STANDARD
BEGIN:DAYLIGHT
TZOFFSETFROM:-0500
TZOFFSETTO:-0400
TZNAME:EDT
DTSTART:20180311T070000
END:DAYLIGHT
BEGIN:STANDARD
TZOFFSETFROM:-0400
TZOFFSETTO:-0500
TZNAME:EST
DTSTART:20181104T060000
END:STANDARD
BEGIN:DAYLIGHT
TZOFFSETFROM:-0500
TZOFFSETTO:-0400
TZNAME:EDT
DTSTART:20190310T070000
END:DAYLIGHT
BEGIN:STANDARD
TZOFFSETFROM:-0400
TZOFFSETTO:-0500
TZNAME:EST
DTSTART:20191103T060000
END:STANDARD
BEGIN:DAYLIGHT
TZOFFSETFROM:-0500
TZOFFSETTO:-0400
TZNAME:EDT
DTSTART:20200308T070000
END:DAYLIGHT
BEGIN:STANDARD
TZOFFSETFROM:-0400
TZOFFSETTO:-0500
TZNAME:EST
DTSTART:20201101T060000
END:STANDARD
END:VTIMEZONE
BEGIN:VEVENT
DTSTART;TZID=America/New_York:20191115T080000
DTEND;TZID=America/New_York:20191115T080000
DTSTAMP:20260425T194431
CREATED:20190927T185557Z
LAST-MODIFIED:20190927T185651Z
UID:3790-1573804800-1573804800@autismspectrumnews.org
SUMMARY:YAI 2019 Hudson Valley Autism Conference
DESCRIPTION:Join YAI for the 2019 Hudson Valley Autism Conference \n\n\nHundreds of professionals in the field of intellectual and developmental disabilities (I/DD)\, businesses that employ people on the spectrum\, as well as people we support and their families\, will be in attendance for an inspiring day of learning. Following this years conference please join us for a networking happy hour to connect with industry leaders who support employment for people with autism. \nThis year’s topic is Employment Success for People on the Spectrum \nFor more than sixty years\, YAI has been a leader in the I/DD field through our innovative services\, industry trainings\, and tireless advocacy. Currently\, we support more than 20\,000 people each year — the largest organization of our kind in New York State.
URL:https://autismspectrumnews.org/event/yai-2019-hudson-valley-autism-conference/
LOCATION:Manhattanville College\, Reid Castle\, 2900 Purchase Street\, Harrison\, NY\, 10577\, United States
ORGANIZER;CN="Jessica Stinchcomb":MAILTO:jessica.stinchcomb@yai.org
END:VEVENT
BEGIN:VEVENT
DTSTART;TZID=America/New_York:20191027T093000
DTEND;TZID=America/New_York:20191027T160000
DTSTAMP:20260425T194431
CREATED:20190715T185322Z
LAST-MODIFIED:20190715T185322Z
UID:3349-1572168600-1572192000@autismspectrumnews.org
SUMMARY:Youth on the Autism Spectrum: Jobs\, College and BEYOND
DESCRIPTION:The morning will include a series of presentations on vocational options and college programs. After lunch a series of workshops will focus on transition to jobs/ vocational schools for students and supporters\, one for students interested in college programs\, another for parents interested in college.  Information on transition planning and programs as well as a final session on transition issues for the entire group.  The focus will be on practical  and helpful information and ways to access resources and supports and strategies for success. \nSpeakers include: Jane Brown\, Peter Gerhardt\, Gary Mayerson\, John Miller\, Fred Volkmar\, Ernst Vanbergeijk\, Michael Storz\, Barbara Cook\, Kimberly Bean\, and others \nAs part of ReelAbilities Film Festival\, Two Film Shorts  on ASD (Bumblees & Autism in Love) will also be played during lunch \nSPONSORED BY THE CENTERS OF EXCELLENCE ON AUTISM SPECTRUM DISORDERS AT SOUTHERN CONNECTICUT STATE UNIVERSITY & YALE UNIVERSITY \nCost: $25 per person
URL:https://autismspectrumnews.org/event/youth-on-the-autism-spectrum-jobs-college-and-beyond/
LOCATION:Southern CT State University Adanti Center Ballroom\, 345 Fitch St\, New Haven\, CT\, 06515\, United States
END:VEVENT
BEGIN:VEVENT
DTSTART;TZID=America/New_York:20191017T183000
DTEND;TZID=America/New_York:20191017T223000
DTSTAMP:20260425T194431
CREATED:20190823T160113Z
LAST-MODIFIED:20190823T160113Z
UID:3553-1571337000-1571351400@autismspectrumnews.org
SUMMARY:Unique People Services 28th Annual Gala
DESCRIPTION:  \n \n“A Celebration of Unique People”\nRegistration and Details: upsgala2019.uniquepeopleservices.org \nThursday\, October 17\, 2019\nMarina del Rey Caterers\n1 Marina Drive\, Bronx\, NY 10465 \nCocktail Hour | 6:30PM-7:30PM     Dinner and Program | 7:30PM – 10:30PM \nPlease RSVP by Friday\, October 4\, 2019
URL:https://autismspectrumnews.org/event/unique-people-services-28th-annual-gala/
LOCATION:Marina del Rey Caterers\, 1 Marina Drive\, Bronx\, 10465\, United States
END:VEVENT
BEGIN:VEVENT
DTSTART;VALUE=DATE:20191017
DTEND;VALUE=DATE:20191019
DTSTAMP:20260425T194431
CREATED:20190718T144846Z
LAST-MODIFIED:20190718T145434Z
UID:3381-1571270400-1571443199@autismspectrumnews.org
SUMMARY:Autism New Jersey 37th Annual Conference
DESCRIPTION:With 81 workshop options\, 100+ exhibitors\, and opportunities for networking and support\, you can truly create the\nconference experience that YOU need. With all content reviewed to be evidence-based and presented by leaders in\nthe autism community\, you can be confident that it will be a good use of your valuable time and resources. Here are\nsome of the very different ways our 1\,300+ participants craft their schedules: \n• Those who value our Transition Conference will find 4 times as many sessions here that apply to\nteens\, adults\, and their families.\n• New to autism? Learn the basics of understanding behavior\, building social/communication skills\, and\ncreating meaningful IEPs.\n• Teachers: access autism-specific best practice for instruction and classroom management.\n• Focus exclusively on financial planning\, legal issues and advocacy\, and state/federal supports.\n• Experienced clinicians: find support for ethical and instructional challenges from renowned experts.\n• Encouraged by personal perspectives? We appreciate the self-advocates and parents who share their\nexperiences to help us all.
URL:https://autismspectrumnews.org/event/autism-new-jersey-37th-annual-conference/
LOCATION:Harrah’s Waterfront Conference Center\, 777 Harrah's Blvd\, Atlantic City\, NJ\, 08401\, United States
END:VEVENT
BEGIN:VEVENT
DTSTART;TZID=America/New_York:20190504T081500
DTEND;TZID=America/New_York:20190504T161500
DTSTAMP:20260425T194431
CREATED:20190331T204756Z
LAST-MODIFIED:20190331T204756Z
UID:1317-1556957700-1556986500@autismspectrumnews.org
SUMMARY:AHA’s 2019 Spring Conference - Improving Communication Strategies for Individuals with Autism
DESCRIPTION:This year at our annual Spring Conference AHA is proud to present: Improving Communication Strategies for Individuals with Autism\, featuring keynote speaker Alexander “Alex” Plank. Alex is the creator of the website Wrong Planet and consultant to the television show The Bridge. Alex will present on Autism in the Media. Our other speakers include Jackie Bowen\, Kate Cody\, Dena Gassner\, Gina Moravcik\, Stephen Shore\, Kate Trammell and Zosia Zaks presenting effective communication strategies for individuals\, families and professionals in employment\, healthcare and in the community. The Voices from the Spectrum Panel offer\ninsights from personal experiences. This conference will be live streamed for those who are unable to attend in person.
URL:https://autismspectrumnews.org/event/ahas-2019-spring-conference-improving-communication-strategies-for-individuals-with-autism/
LOCATION:The Viscardi Center\, 201 I.U Willets Road\, Albertson\, NY\, 11507\, United States
ORGANIZER;CN="Pat Schissel":MAILTO:conference@ahany.org
END:VEVENT
BEGIN:VEVENT
DTSTART;TZID=America/New_York:20190412T180000
DTEND;TZID=America/New_York:20190414T163000
DTSTAMP:20260425T194431
CREATED:20190331T205536Z
LAST-MODIFIED:20190331T205952Z
UID:1327-1555092000-1555259400@autismspectrumnews.org
SUMMARY:Berklee Institute for Arts Education and Special Needs - ABLE Assembly: Arts Better the Lives of Everyone
DESCRIPTION:The Berklee Institute for Arts Education and Special Needs (BIAESN) is delighted to announce the 2019 dates for its annual conference\, ABLE Assembly: Arts Better the Lives of Everyone. \nThe ABLE Assembly 2019 will be held April 12–14 at Berklee College of Music in Boston. \nThe ABLE Assembly is an exceptional professional development opportunity in the field of arts education and special needs\, bringing together educators\, artists\, researchers\, policymakers\, school administrators\, program administrators\, and students to share best practices\, engage in hands-on experiences\, explore new research\, and learn from each other. \nThe event features presentations and workshops on teaching the arts to students with special needs. Keynote presenters will be announced this fall. Workshops will include opportunities to experience teaching strategies and approaches in music\, dance\, and theater. \nThe conference is open to the public. \nRegister\nThe registration fee is $100 and includes admission to all conference sessions and events\, plus lunch on Saturday and Sunday.\nSchedule\nFriday\, April 12\, 6:00 p.m.–9:00 p.m.\nSaturday\, April 13\, 9:00 a.m.–4:30 p.m.\nSunday\, April 14\, 9:00 a.m.–4:30 p.m.
URL:https://autismspectrumnews.org/event/berklee-institute-for-arts-education-and-special-needs-able-assembly-arts-better-the-lives-of-everyone/
LOCATION:Berklee College of Music\, 921 Boylston Street\, Boston\, MA\, 02215\, United States
ORGANIZER;CN="Rhoda Bernard":MAILTO:rbernard@berklee.edu
END:VEVENT
BEGIN:VEVENT
DTSTART;TZID=America/New_York:20190404T180000
DTEND;TZID=America/New_York:20190404T180000
DTSTAMP:20260425T194431
CREATED:20190126T190727Z
LAST-MODIFIED:20190126T191214Z
UID:923-1554400800-1554400800@autismspectrumnews.org
SUMMARY:7th Annual Film and Music Spectacular
DESCRIPTION:Join Pace University and the Seidenberg School of Computer Science and Information Systems for a film festival marathon featuring short films respecting autonomy and empowerment of people with disabilities.
URL:https://autismspectrumnews.org/event/7th-annual-film-and-music-spectacular/
LOCATION:Pace University Seidenberg School\, 3 Spruce Street\, Bianco Room\, B-Level\, New York\, NY\, 10038\, United States
ORGANIZER;CN="James P. Lawler%2C DPS":MAILTO:lawlerj@aol.com
END:VEVENT
BEGIN:VEVENT
DTSTART;TZID=America/New_York:20181116T080000
DTEND;TZID=America/New_York:20181116T170000
DTSTAMP:20260425T194431
CREATED:20181010T120232Z
LAST-MODIFIED:20181010T120232Z
UID:618-1542355200-1542387600@autismspectrumnews.org
SUMMARY:YAI Westchester Autism Conference
DESCRIPTION:Building Success: Understanding the Complex Nature of Autism
URL:https://autismspectrumnews.org/event/yai-westchester-autism-conference/
LOCATION:DoubleTree by Hilton Tarrytown\, 455 South Broadway\, Tarrytown\, 10591\, United States
END:VEVENT
BEGIN:VEVENT
DTSTART;TZID=America/New_York:20181018T090000
DTEND;TZID=America/New_York:20181019T160000
DTSTAMP:20260425T194431
CREATED:20180823T201540Z
LAST-MODIFIED:20180823T203852Z
UID:452-1539853200-1539964800@autismspectrumnews.org
SUMMARY:Autism NJ 36th Annual Autism Conference
DESCRIPTION:
URL:https://autismspectrumnews.org/event/autism-nj-36th-annual-autism-conference/
ORGANIZER;CN="Elissa Kapp":MAILTO:ekapp@autismnj.org
END:VEVENT
END:VCALENDAR